BEGIN:VCALENDAR
VERSION:2.0
PRODID:-//eventon.com NONSGML v1.0//EN
CALSCALE:GREGORIAN
METHOD:PUBLISH
BEGIN:VEVENT
UID:69ea39eb2dab3
DTSTAMP:20260423T152531Z
DTSTART:20260424T173000Z
DTEND:20260424T173000Z
LOCATION:Paseo del Quince de Mayo 24\,  28019 Madrid\,  Spain
SUMMARY:FUSION DANCE - Taller WCS y Jam Fusion
DESCRIPTION:💫 ¡Jam de Fusion con West Coast Swing! 💫 Reserva aquí: 
 https://forms.gle/41B4M4KnynYXjR2d6 El viernes 24 de abril de Fusion comenz
 amos con un taller de West Coast Swing (WCS) con Álvaro y María. Un baile
  social elegante\,  fluido y lleno de groove. Después… 🎉 Picoteo y Fi
 esta de West Coast Swing[..]\nhttps://espaciolapradera.es/events/fusion-dan
 ce-taller-wcs-y-jam-fusion-2
URL:https://espaciolapradera.es/events/fusion-dance-taller-wcs-y-jam-fusion-2
END:VEVENT
END:VCALENDAR