BEGIN:VCALENDAR
VERSION:2.0
PRODID:-//eventon.com NONSGML v1.0//EN
CALSCALE:GREGORIAN
METHOD:PUBLISH
BEGIN:VEVENT
UID:69e4d76408d30
DTSTAMP:20260419T132348Z
DTSTART:20241020T090000Z
DTEND:20241020T120000Z
LOCATION:Paseo del Quince de Mayo 24\,  Madrid
SUMMARY:Baño de sonido . yoga y Brunch!
DESCRIPTION:una sesión de yoga con Natalia Moreno \, después baño relaja
 nte de sonido con maravillosos cuencos recién traídos de India más Brunc
 h y encuentro. no puedes perderte lo!!! espacio la pradera.\nhttps://espaci
 olapradera.es/events/bano-de-sonido-yoga-y-brunch
URL:https://espaciolapradera.es/events/bano-de-sonido-yoga-y-brunch
END:VEVENT
END:VCALENDAR